BEGIN:VCALENDAR
VERSION:2.0
PRODID:-//Tugun Surf Life Saving Club - ECPv4.9.13//NONSGML v1.0//EN
CALSCALE:GREGORIAN
METHOD:PUBLISH
X-WR-CALNAME:Tugun Surf Life Saving Club
X-ORIGINAL-URL:http://www.tugunslsc.com.au
X-WR-CALDESC:Events for Tugun Surf Life Saving Club
BEGIN:VTIMEZONE
TZID:Australia/Brisbane
BEGIN:STANDARD
TZOFFSETFROM:+1000
TZOFFSETTO:+1000
TZNAME:AEST
DTSTART:20200101T000000
END:STANDARD
END:VTIMEZONE
BEGIN:VEVENT
DTSTART;TZID=Australia/Brisbane:20200228T160000
DTEND;TZID=Australia/Brisbane:20200228T190000
DTSTAMP:20200229T221045
CREATED:20200103T050301Z
LAST-MODIFIED:20200103T050430Z
UID:561-1582905600-1582916400@www.tugunslsc.com.au
SUMMARY:Pt Danger Branch Championships - beach events @ TH&C
DESCRIPTION:
URL:http://www.tugunslsc.com.au/event/pt-danger-branch-championships-beach-events-th-c/
END:VEVENT
BEGIN:VEVENT
DTSTART;TZID=Australia/Brisbane:20200229T070000
DTEND;TZID=Australia/Brisbane:20200229T170000
DTSTAMP:20200229T221045
CREATED:20200103T050352Z
LAST-MODIFIED:20200103T050352Z
UID:563-1582959600-1582995600@www.tugunslsc.com.au
SUMMARY:Pt Danger Branch Championships - water events @ TH&C
DESCRIPTION:
URL:http://www.tugunslsc.com.au/event/pt-danger-branch-championships-water-events-thc/
END:VEVENT
END:VCALENDAR